BEGIN:VCALENDAR
VERSION:2.0
PRODID:-//Coach Joaquin Fitnes DJ - ECPv6.15.20//NONSGML v1.0//EN
CALSCALE:GREGORIAN
METHOD:PUBLISH
X-WR-CALNAME:Coach Joaquin Fitnes DJ
X-ORIGINAL-URL:https://coachjoaquin.com
X-WR-CALDESC:Events for Coach Joaquin Fitnes DJ
REFRESH-INTERVAL;VALUE=DURATION:PT1H
X-Robots-Tag:noindex
X-PUBLISHED-TTL:PT1H
BEGIN:VTIMEZONE
TZID:America/Los_Angeles
BEGIN:DAYLIGHT
TZOFFSETFROM:-0800
TZOFFSETTO:-0700
TZNAME:PDT
DTSTART:20250309T100000
END:DAYLIGHT
BEGIN:STANDARD
TZOFFSETFROM:-0700
TZOFFSETTO:-0800
TZNAME:PST
DTSTART:20251102T090000
END:STANDARD
BEGIN:DAYLIGHT
TZOFFSETFROM:-0800
TZOFFSETTO:-0700
TZNAME:PDT
DTSTART:20260308T100000
END:DAYLIGHT
BEGIN:STANDARD
TZOFFSETFROM:-0700
TZOFFSETTO:-0800
TZNAME:PST
DTSTART:20261101T090000
END:STANDARD
BEGIN:DAYLIGHT
TZOFFSETFROM:-0800
TZOFFSETTO:-0700
TZNAME:PDT
DTSTART:20270314T100000
END:DAYLIGHT
BEGIN:STANDARD
TZOFFSETFROM:-0700
TZOFFSETTO:-0800
TZNAME:PST
DTSTART:20271107T090000
END:STANDARD
END:VTIMEZONE
BEGIN:VEVENT
DTSTART;VALUE=DATE:20260423
DTEND;VALUE=DATE:20260424
DTSTAMP:20260423T053234
CREATED:20260121T204513Z
LAST-MODIFIED:20260121T204513Z
UID:1722-1776902400-1776988799@coachjoaquin.com
SUMMARY:Collegiate Conference Championship Day 2
DESCRIPTION:
URL:https://coachjoaquin.com/event/collegiate-conference-championship-day-2/
CATEGORIES:Track and Field
END:VEVENT
BEGIN:VEVENT
DTSTART;VALUE=DATE:20260501
DTEND;VALUE=DATE:20260503
DTSTAMP:20260423T053234
CREATED:20260121T204557Z
LAST-MODIFIED:20260121T204557Z
UID:1724-1777593600-1777766399@coachjoaquin.com
SUMMARY:OSU High Performance
DESCRIPTION:
URL:https://coachjoaquin.com/event/osu-high-performance/
CATEGORIES:Track and Field
END:VEVENT
BEGIN:VEVENT
DTSTART;VALUE=DATE:20260509
DTEND;VALUE=DATE:20260510
DTSTAMP:20260423T053234
CREATED:20260121T204639Z
LAST-MODIFIED:20260121T204639Z
UID:1726-1778284800-1778371199@coachjoaquin.com
SUMMARY:Portland Track Twilight
DESCRIPTION:
URL:https://coachjoaquin.com/event/portland-track-twilight/
CATEGORIES:Track and Field
END:VEVENT
END:VCALENDAR